BEGIN:VCALENDAR
VERSION:2.0
PRODID:-//Plone.org//NONSGML plone.app.event//EN
X-WR-TIMEZONE:Europe/Madrid
BEGIN:VEVENT
SUMMARY:"Posa't la gorra" al Turó de la Seu Vella
DTSTART;TZID=Europe/Madrid;VALUE=DATE-TIME:20260315T103000
DTEND;TZID=Europe/Madrid;VALUE=DATE-TIME:20260315T133000
DTSTAMP;VALUE=DATE-TIME:20260422T145236Z
UID:051eb43244494c9ebf011009328762f9@esport.paeria.cat
CREATED;VALUE=DATE-TIME:20260213T112554Z
LAST-MODIFIED;VALUE=DATE-TIME:20260213T112637Z
URL:https://esport.paeria.cat/ca/actualitat/agenda/posat-la-gorra-al-turo-
 de-la-seu-vella
END:VEVENT
BEGIN:VTIMEZONE
TZID:Europe/Madrid
X-LIC-LOCATION:Europe/Madrid
BEGIN:STANDARD
DTSTART;VALUE=DATE-TIME:20251026T020000
TZNAME:CET
TZOFFSETFROM:+0200
TZOFFSETTO:+0100
END:STANDARD
END:VTIMEZONE
END:VCALENDAR
