BEGIN:VCALENDAR
VERSION:2.0
PRODID:-//Plone.org//NONSGML plone.app.event//EN
X-WR-TIMEZONE:Europe/Madrid
BEGIN:VEVENT
SUMMARY:Partit bàsquet - Lliga Femenina 2 - Robles Lleida vs Duego Garden
 store Baloncesto Sevilla
DTSTART;TZID=Europe/Madrid;VALUE=DATE-TIME:20250208T190000
DTEND;TZID=Europe/Madrid;VALUE=DATE-TIME:20250208T210000
DTSTAMP;VALUE=DATE-TIME:20260422T101833Z
UID:0430dd134a734a0a8bee94a908a01cd3@esport.paeria.cat
CREATED;VALUE=DATE-TIME:20250206T095941Z
LAST-MODIFIED;VALUE=DATE-TIME:20250206T101805Z
URL:https://esport.paeria.cat/ca/actualitat/agenda/partit-basquet-lliga-fe
 menina-2-robles-lleida-vs-duego-gardenstore-baloncesto-sevilla
END:VEVENT
BEGIN:VTIMEZONE
TZID:Europe/Madrid
X-LIC-LOCATION:Europe/Madrid
BEGIN:STANDARD
DTSTART;VALUE=DATE-TIME:20241027T020000
TZNAME:CET
TZOFFSETFROM:+0200
TZOFFSETTO:+0100
END:STANDARD
END:VTIMEZONE
END:VCALENDAR
