BEGIN:VCALENDAR
VERSION:2.0
PRODID:-//Plone.org//NONSGML plone.app.event//EN
X-WR-TIMEZONE:Europe/Madrid
BEGIN:VEVENT
SUMMARY:Gimnàstica rítmica - VIII Trofeu Escolar - Sícoris club individ
 ual i de conjunts
DTSTART;TZID=Europe/Madrid;VALUE=DATE-TIME:20250315T090000
DTEND;TZID=Europe/Madrid;VALUE=DATE-TIME:20250315T210000
DTSTAMP;VALUE=DATE-TIME:20260423T154345Z
UID:d789882572a04590bd7d26de9ebc2fdb@esport.paeria.cat
CREATED;VALUE=DATE-TIME:20250313T112948Z
LAST-MODIFIED;VALUE=DATE-TIME:20250313T113048Z
URL:https://esport.paeria.cat/ca/actualitat/agenda/gimnastica-ritmica-viii
 -trofeu-escolar-sicoris-club-individual-i-de-conjunts
END:VEVENT
BEGIN:VTIMEZONE
TZID:Europe/Madrid
X-LIC-LOCATION:Europe/Madrid
BEGIN:STANDARD
DTSTART;VALUE=DATE-TIME:20241027T020000
TZNAME:CET
TZOFFSETFROM:+0200
TZOFFSETTO:+0100
END:STANDARD
END:VTIMEZONE
END:VCALENDAR
