BEGIN:VCALENDAR
VERSION:2.0
PRODID:-//Plone.org//NONSGML plone.app.event//EN
X-WR-TIMEZONE:Europe/Madrid
BEGIN:VEVENT
SUMMARY:Partit de vòlei - 1a nacional - Rodi Balàfia Vòlei vs Club Vòl
 ei Ametlla
DTSTART;TZID=Europe/Madrid;VALUE=DATE-TIME:20250301T160000
DTEND;TZID=Europe/Madrid;VALUE=DATE-TIME:20250301T173000
DTSTAMP;VALUE=DATE-TIME:20260422T081900Z
UID:9ce4d67101ad464db589e3a77f8e58f2@esport.paeria.cat
CREATED;VALUE=DATE-TIME:20250206T093431Z
LAST-MODIFIED;VALUE=DATE-TIME:20250228T113915Z
URL:https://esport.paeria.cat/ca/actualitat/agenda/copy_of_partit-de-volei
 -1a-nacional-balafia-volei-vs-club-volei-sant-marti
END:VEVENT
BEGIN:VTIMEZONE
TZID:Europe/Madrid
X-LIC-LOCATION:Europe/Madrid
BEGIN:STANDARD
DTSTART;VALUE=DATE-TIME:20241027T020000
TZNAME:CET
TZOFFSETFROM:+0200
TZOFFSETTO:+0100
END:STANDARD
END:VTIMEZONE
END:VCALENDAR
