BEGIN:VCALENDAR
VERSION:2.0
PRODID:-//Plone.org//NONSGML plone.app.event//EN
X-WR-TIMEZONE:Europe/Madrid
BEGIN:VEVENT
SUMMARY:Handbol femení - Divisió d'honor plata femenina Grup C - Lleida 
 Handbol Club vs Mubak BM la Roca
DTSTART;TZID=Europe/Madrid;VALUE=DATE-TIME:20250301T160000
DTEND;TZID=Europe/Madrid;VALUE=DATE-TIME:20250301T173000
DTSTAMP;VALUE=DATE-TIME:20260423T062825Z
UID:e40c7520e1eb4436900fcad3af956418@esport.paeria.cat
CREATED;VALUE=DATE-TIME:20240320T081501Z
LAST-MODIFIED;VALUE=DATE-TIME:20250228T114948Z
URL:https://esport.paeria.cat/ca/actualitat/agenda/copy_of_handbol-femeni-
 divisio-dhonor-plata-femenina-grup-b-lleida-handbol-club-vs-cb-san-adrian
END:VEVENT
BEGIN:VTIMEZONE
TZID:Europe/Madrid
X-LIC-LOCATION:Europe/Madrid
BEGIN:STANDARD
DTSTART;VALUE=DATE-TIME:20241027T020000
TZNAME:CET
TZOFFSETFROM:+0200
TZOFFSETTO:+0100
END:STANDARD
END:VTIMEZONE
END:VCALENDAR
