BEGIN:VCALENDAR
VERSION:2.0
PRODID:-//Plone.org//NONSGML plone.app.event//EN
X-WR-TIMEZONE:Europe/Madrid
BEGIN:VEVENT
SUMMARY:Futbol femení -  AEM Lleida vs FC Barcelona B
DTSTART;TZID=Europe/Madrid;VALUE=DATE-TIME:20250309T123000
DTEND;TZID=Europe/Madrid;VALUE=DATE-TIME:20250309T141500
DTSTAMP;VALUE=DATE-TIME:20260422T135724Z
UID:cab482362ad04930a19498dc7930fba2@esport.paeria.cat
CREATED;VALUE=DATE-TIME:20250204T120837Z
LAST-MODIFIED;VALUE=DATE-TIME:20250307T091256Z
URL:https://esport.paeria.cat/ca/actualitat/agenda/copy_of_futbol-femeni-l
 liga-catalunya-aem-lleida-vs-fc-barcelona
END:VEVENT
BEGIN:VTIMEZONE
TZID:Europe/Madrid
X-LIC-LOCATION:Europe/Madrid
BEGIN:STANDARD
DTSTART;VALUE=DATE-TIME:20241027T020000
TZNAME:CET
TZOFFSETFROM:+0200
TZOFFSETTO:+0100
END:STANDARD
END:VTIMEZONE
END:VCALENDAR
