BEGIN:VCALENDAR
VERSION:2.0
PRODID:-//Plone.org//NONSGML plone.app.event//EN
X-WR-TIMEZONE:Europe/Madrid
BEGIN:VEVENT
SUMMARY:Handbol femení - Divisió d'honor or femenina Grup B - Lleida Han
 dbol Club vs Grupo Husa Handbol Mislata
DTSTART;TZID=Europe/Madrid;VALUE=DATE-TIME:20260208T120000
DTEND;TZID=Europe/Madrid;VALUE=DATE-TIME:20260208T140000
DTSTAMP;VALUE=DATE-TIME:20260422T195144Z
UID:18b4626ca3c84da9b99d9452edd69f33@esport.paeria.cat
CREATED;VALUE=DATE-TIME:20240320T081501Z
DESCRIPTION:Jornada 16
LAST-MODIFIED;VALUE=DATE-TIME:20260116T124014Z
URL:https://esport.paeria.cat/ca/actualitat/agenda/copy8_of_handbol-femeni
 -divisio-dhonor-plata-femenina-grup-b-lleida-handbol-club-vs-cb-san-adrian
END:VEVENT
BEGIN:VTIMEZONE
TZID:Europe/Madrid
X-LIC-LOCATION:Europe/Madrid
BEGIN:STANDARD
DTSTART;VALUE=DATE-TIME:20251026T020000
TZNAME:CET
TZOFFSETFROM:+0200
TZOFFSETTO:+0100
END:STANDARD
END:VTIMEZONE
END:VCALENDAR
