BEGIN:VCALENDAR
VERSION:2.0
PRODID:-//Plone.org//NONSGML plone.app.event//EN
X-WR-TIMEZONE:Europe/Madrid
BEGIN:VEVENT
SUMMARY:Handbol femení - Divisió d'honor or femenina Grup B - Lleida Han
 dbol Club vs Uneatlántico Pereda
DTSTART;TZID=Europe/Madrid;VALUE=DATE-TIME:20260124T183000
DTEND;TZID=Europe/Madrid;VALUE=DATE-TIME:20260124T203000
DTSTAMP;VALUE=DATE-TIME:20260423T060139Z
UID:cfd9110a85574c3aa4f6d2cdbe8db2d1@esport.paeria.cat
CREATED;VALUE=DATE-TIME:20240320T081501Z
DESCRIPTION:Jornada 14
LAST-MODIFIED;VALUE=DATE-TIME:20260116T123752Z
URL:https://esport.paeria.cat/ca/actualitat/agenda/copy7_of_handbol-femeni
 -divisio-dhonor-plata-femenina-grup-b-lleida-handbol-club-vs-cb-san-adrian
END:VEVENT
BEGIN:VTIMEZONE
TZID:Europe/Madrid
X-LIC-LOCATION:Europe/Madrid
BEGIN:STANDARD
DTSTART;VALUE=DATE-TIME:20251026T020000
TZNAME:CET
TZOFFSETFROM:+0200
TZOFFSETTO:+0100
END:STANDARD
END:VTIMEZONE
END:VCALENDAR
