BEGIN:VCALENDAR
VERSION:2.0
PRODID:-//Plone.org//NONSGML plone.app.event//EN
X-WR-TIMEZONE:Europe/Madrid
BEGIN:VEVENT
SUMMARY:Partit Hoquei - OK Lliga - PONS LLEIDA  vs CH CALDES RECAM LÀSER
DTSTART;TZID=Europe/Madrid;VALUE=DATE-TIME:20250323T120000
DTEND;TZID=Europe/Madrid;VALUE=DATE-TIME:20250323T135000
DTSTAMP;VALUE=DATE-TIME:20260422T165815Z
UID:e24449283f694d809e27a5e581ceaf46@esport.paeria.cat
CREATED;VALUE=DATE-TIME:20250211T115805Z
LAST-MODIFIED;VALUE=DATE-TIME:20250320T104312Z
URL:https://esport.paeria.cat/ca/actualitat/agenda/copy5_of_partit-hoquei-
 ok-lliga-pons-lleida-vs-senergy-renovables-sant-just
END:VEVENT
BEGIN:VTIMEZONE
TZID:Europe/Madrid
X-LIC-LOCATION:Europe/Madrid
BEGIN:STANDARD
DTSTART;VALUE=DATE-TIME:20241027T020000
TZNAME:CET
TZOFFSETFROM:+0200
TZOFFSETTO:+0100
END:STANDARD
END:VTIMEZONE
END:VCALENDAR
