BEGIN:VCALENDAR
VERSION:2.0
PRODID:-//Plone.org//NONSGML plone.app.event//EN
X-WR-TIMEZONE:Europe/Madrid
BEGIN:VEVENT
SUMMARY:Partit de vòlei - 1a nacional - Rodi Balàfia Vòlei vs Torredenb
 arra
DTSTART;TZID=Europe/Madrid;VALUE=DATE-TIME:20250329T160000
DTEND;TZID=Europe/Madrid;VALUE=DATE-TIME:20250329T173000
DTSTAMP;VALUE=DATE-TIME:20260422T081859Z
UID:b8d9810285af45729766f0186fd1f3a9@esport.paeria.cat
CREATED;VALUE=DATE-TIME:20250206T093431Z
LAST-MODIFIED;VALUE=DATE-TIME:20250328T072355Z
URL:https://esport.paeria.cat/ca/actualitat/agenda/copy3_of_partit-de-vole
 i-1a-nacional-balafia-volei-vs-club-volei-sant-marti
END:VEVENT
BEGIN:VTIMEZONE
TZID:Europe/Madrid
X-LIC-LOCATION:Europe/Madrid
BEGIN:STANDARD
DTSTART;VALUE=DATE-TIME:20241027T020000
TZNAME:CET
TZOFFSETFROM:+0200
TZOFFSETTO:+0100
END:STANDARD
END:VTIMEZONE
END:VCALENDAR
