BEGIN:VCALENDAR
VERSION:2.0
PRODID:-//Plone.org//NONSGML plone.app.event//EN
X-WR-TIMEZONE:Europe/Madrid
BEGIN:VEVENT
SUMMARY:Futbol femení 1a Federació -  AEM Lleida vs Costa Adeje Tenerife
DTSTART;TZID=Europe/Madrid;VALUE=DATE-TIME:20251116T123000
DTEND;TZID=Europe/Madrid;VALUE=DATE-TIME:20251116T141500
DTSTAMP;VALUE=DATE-TIME:20260422T153809Z
UID:c613170ffde84104866752afe74ba0ee@esport.paeria.cat
CREATED;VALUE=DATE-TIME:20250204T120837Z
LAST-MODIFIED;VALUE=DATE-TIME:20251103T103103Z
URL:https://esport.paeria.cat/ca/actualitat/agenda/copy3_of_futbol-femeni-
 lliga-catalunya-aem-lleida-vs-fc-barcelona
END:VEVENT
BEGIN:VTIMEZONE
TZID:Europe/Madrid
X-LIC-LOCATION:Europe/Madrid
BEGIN:STANDARD
DTSTART;VALUE=DATE-TIME:20251026T020000
TZNAME:CET
TZOFFSETFROM:+0200
TZOFFSETTO:+0100
END:STANDARD
END:VTIMEZONE
END:VCALENDAR
