BEGIN:VCALENDAR
VERSION:2.0
PRODID:-//Plone.org//NONSGML plone.app.event//EN
X-WR-TIMEZONE:Europe/Madrid
BEGIN:VEVENT
SUMMARY:Handbol femení - Divisió d'honor plata femenina Grup C - Lleida 
 Handbol Club vs CH Amposta
DTSTART;TZID=Europe/Madrid;VALUE=DATE-TIME:20250322T180000
DTEND;TZID=Europe/Madrid;VALUE=DATE-TIME:20250322T193000
DTSTAMP;VALUE=DATE-TIME:20260422T110301Z
UID:10fddf9429564af79c55c195f8720e27@esport.paeria.cat
CREATED;VALUE=DATE-TIME:20240320T081501Z
LAST-MODIFIED;VALUE=DATE-TIME:20250320T102116Z
URL:https://esport.paeria.cat/ca/actualitat/agenda/copy2_of_handbol-femeni
 -divisio-dhonor-plata-femenina-grup-b-lleida-handbol-club-vs-cb-san-adrian
END:VEVENT
BEGIN:VTIMEZONE
TZID:Europe/Madrid
X-LIC-LOCATION:Europe/Madrid
BEGIN:STANDARD
DTSTART;VALUE=DATE-TIME:20241027T020000
TZNAME:CET
TZOFFSETFROM:+0200
TZOFFSETTO:+0100
END:STANDARD
END:VTIMEZONE
END:VCALENDAR
