BEGIN:VCALENDAR
VERSION:2.0
PRODID:-//Plone.org//NONSGML plone.app.event//EN
X-WR-TIMEZONE:Europe/Madrid
BEGIN:VEVENT
SUMMARY:Bàsquet - Lliga Endesa - Hiopos Lleida vs Bàsquet Girona
DTSTART;TZID=Europe/Madrid;VALUE=DATE-TIME:20260215T120000
DTEND;TZID=Europe/Madrid;VALUE=DATE-TIME:20260215T140000
DTSTAMP;VALUE=DATE-TIME:20260420T182306Z
UID:7c4d600312d941f7be0e148012304614@esport.paeria.cat
CREATED;VALUE=DATE-TIME:20250121T133501Z
LAST-MODIFIED;VALUE=DATE-TIME:20260116T092828Z
URL:https://esport.paeria.cat/ca/actualitat/agenda/copy20_of_basquet-lliga
 -endesa-hiopos-lleida-vs-baskonia
END:VEVENT
BEGIN:VTIMEZONE
TZID:Europe/Madrid
X-LIC-LOCATION:Europe/Madrid
BEGIN:STANDARD
DTSTART;VALUE=DATE-TIME:20251026T020000
TZNAME:CET
TZOFFSETFROM:+0200
TZOFFSETTO:+0100
END:STANDARD
END:VTIMEZONE
END:VCALENDAR
