BEGIN:VCALENDAR
VERSION:2.0
PRODID:-//Plone.org//NONSGML plone.app.event//EN
X-WR-TIMEZONE:Europe/Madrid
BEGIN:VEVENT
SUMMARY:Bàsquet - Lliga Endesa - Hiopos Lleida vs Baxi Manresa
DTSTART;TZID=Europe/Madrid;VALUE=DATE-TIME:20260208T120000
DTEND;TZID=Europe/Madrid;VALUE=DATE-TIME:20260208T140000
DTSTAMP;VALUE=DATE-TIME:20260423T122506Z
UID:4e36bbaacf974336b27583161ea8dcc1@esport.paeria.cat
CREATED;VALUE=DATE-TIME:20250121T133501Z
LAST-MODIFIED;VALUE=DATE-TIME:20260116T092652Z
URL:https://esport.paeria.cat/ca/actualitat/agenda/copy19_of_basquet-lliga
 -endesa-hiopos-lleida-vs-baskonia
END:VEVENT
BEGIN:VTIMEZONE
TZID:Europe/Madrid
X-LIC-LOCATION:Europe/Madrid
BEGIN:STANDARD
DTSTART;VALUE=DATE-TIME:20251026T020000
TZNAME:CET
TZOFFSETFROM:+0200
TZOFFSETTO:+0100
END:STANDARD
END:VTIMEZONE
END:VCALENDAR
