BEGIN:VCALENDAR
VERSION:2.0
PRODID:-//Plone.org//NONSGML plone.app.event//EN
X-WR-TIMEZONE:Europe/Madrid
BEGIN:VEVENT
SUMMARY:Bàsquet - Lliga Endesa - Hiopos Lleida vs Real Madrid
DTSTART;TZID=Europe/Madrid;VALUE=DATE-TIME:20251220T190000
DTEND;TZID=Europe/Madrid;VALUE=DATE-TIME:20251220T210000
DTSTAMP;VALUE=DATE-TIME:20260423T122505Z
UID:03a57cfb3934411da708c92b199b48c0@esport.paeria.cat
CREATED;VALUE=DATE-TIME:20250121T133501Z
LAST-MODIFIED;VALUE=DATE-TIME:20251125T102514Z
URL:https://esport.paeria.cat/ca/actualitat/agenda/copy16_of_basquet-lliga
 -endesa-hiopos-lleida-vs-baskonia
END:VEVENT
BEGIN:VTIMEZONE
TZID:Europe/Madrid
X-LIC-LOCATION:Europe/Madrid
BEGIN:STANDARD
DTSTART;VALUE=DATE-TIME:20251026T020000
TZNAME:CET
TZOFFSETFROM:+0200
TZOFFSETTO:+0100
END:STANDARD
END:VTIMEZONE
END:VCALENDAR
