BEGIN:VCALENDAR
VERSION:2.0
PRODID:-//Plone.org//NONSGML plone.app.event//EN
X-WR-TIMEZONE:Europe/Madrid
BEGIN:VEVENT
SUMMARY:Bàsquet - Lliga Endesa - Hiopos Lleida vs Unicaja
DTSTART;TZID=Europe/Madrid;VALUE=DATE-TIME:20251206T190000
DTEND;TZID=Europe/Madrid;VALUE=DATE-TIME:20251206T210000
DTSTAMP;VALUE=DATE-TIME:20260423T070810Z
UID:6918857d59d147c39a489e114f00b2de@esport.paeria.cat
CREATED;VALUE=DATE-TIME:20250121T133501Z
LAST-MODIFIED;VALUE=DATE-TIME:20251125T102332Z
URL:https://esport.paeria.cat/ca/actualitat/agenda/copy15_of_basquet-lliga
 -endesa-hiopos-lleida-vs-baskonia
END:VEVENT
BEGIN:VTIMEZONE
TZID:Europe/Madrid
X-LIC-LOCATION:Europe/Madrid
BEGIN:STANDARD
DTSTART;VALUE=DATE-TIME:20251026T020000
TZNAME:CET
TZOFFSETFROM:+0200
TZOFFSETTO:+0100
END:STANDARD
END:VTIMEZONE
END:VCALENDAR
