BEGIN:VCALENDAR
VERSION:2.0
PRODID:-//Plone.org//NONSGML plone.app.event//EN
X-WR-TIMEZONE:Europe/Madrid
BEGIN:VEVENT
SUMMARY:Partit Hoquei - OK Lliga - PONS LLEIDA  vs CALDES
DTSTART;TZID=Europe/Madrid;VALUE=DATE-TIME:20260201T120000
DTEND;TZID=Europe/Madrid;VALUE=DATE-TIME:20260201T135000
DTSTAMP;VALUE=DATE-TIME:20260422T184109Z
UID:ab223a7f62474b288daf90f168be9e41@esport.paeria.cat
CREATED;VALUE=DATE-TIME:20250211T115805Z
LAST-MODIFIED;VALUE=DATE-TIME:20260116T102431Z
URL:https://esport.paeria.cat/ca/actualitat/agenda/copy13_of_partit-hoquei
 -ok-lliga-pons-lleida-vs-senergy-renovables-sant-just
END:VEVENT
BEGIN:VTIMEZONE
TZID:Europe/Madrid
X-LIC-LOCATION:Europe/Madrid
BEGIN:STANDARD
DTSTART;VALUE=DATE-TIME:20251026T020000
TZNAME:CET
TZOFFSETFROM:+0200
TZOFFSETTO:+0100
END:STANDARD
END:VTIMEZONE
END:VCALENDAR
