BEGIN:VCALENDAR
VERSION:2.0
PRODID:-//Plone.org//NONSGML plone.app.event//EN
X-WR-TIMEZONE:Europe/Madrid
BEGIN:VEVENT
SUMMARY:Partit Hoquei - OK Lliga - PONS LLEIDA  vs REUS DEPORTIU BRASILIA
DTSTART;TZID=Europe/Madrid;VALUE=DATE-TIME:20260104T121500
DTEND;TZID=Europe/Madrid;VALUE=DATE-TIME:20260104T140500
DTSTAMP;VALUE=DATE-TIME:20260422T081902Z
UID:beada86d1441473485eefe722977103f@esport.paeria.cat
CREATED;VALUE=DATE-TIME:20250211T115805Z
LAST-MODIFIED;VALUE=DATE-TIME:20251125T103609Z
URL:https://esport.paeria.cat/ca/actualitat/agenda/copy11_of_partit-hoquei
 -ok-lliga-pons-lleida-vs-senergy-renovables-sant-just
END:VEVENT
BEGIN:VTIMEZONE
TZID:Europe/Madrid
X-LIC-LOCATION:Europe/Madrid
BEGIN:STANDARD
DTSTART;VALUE=DATE-TIME:20251026T020000
TZNAME:CET
TZOFFSETFROM:+0200
TZOFFSETTO:+0100
END:STANDARD
END:VTIMEZONE
END:VCALENDAR
